BEGIN:VCALENDAR
VERSION:2.0
PRODID:spatie/icalendar-generator
BEGIN:VTIMEZONE
TZID:UTC
BEGIN:STANDARD
DTSTART:20250727T143808
TZOFFSETFROM:+0000
TZOFFSETTO:+0000
END:STANDARD
END:VTIMEZONE
BEGIN:VEVENT
UID:69ea2ed06081d
DTSTAMP:20260423T143808Z
SUMMARY:Verstrickt. Kolonialismus und Mannheim
DTSTART:20260829T080000Z
DTEND:20260829T160000Z
END:VEVENT
END:VCALENDAR