BEGIN:VCALENDAR
VERSION:2.0
PRODID:spatie/icalendar-generator
BEGIN:VTIMEZONE
TZID:UTC
BEGIN:STANDARD
DTSTART:20250727T160811
TZOFFSETFROM:+0000
TZOFFSETTO:+0000
END:STANDARD
END:VTIMEZONE
BEGIN:VEVENT
UID:69ea43ebeb583
DTSTAMP:20260423T160811Z
SUMMARY:Verstrickt. Kolonialismus und Mannheim
DTSTART:20260823T080000Z
DTEND:20260823T160000Z
END:VEVENT
END:VCALENDAR