BEGIN:VCALENDAR
VERSION:2.0
PRODID:spatie/icalendar-generator
BEGIN:VTIMEZONE
TZID:UTC
BEGIN:STANDARD
DTSTART:20250727T161526
TZOFFSETFROM:+0000
TZOFFSETTO:+0000
END:STANDARD
END:VTIMEZONE
BEGIN:VEVENT
UID:69ea459e0fe87
DTSTAMP:20260423T161526Z
SUMMARY:Verstrickt. Kolonialismus und Mannheim
DTSTART:20260821T080000Z
DTEND:20260821T160000Z
END:VEVENT
END:VCALENDAR