BEGIN:VCALENDAR
VERSION:2.0
PRODID:spatie/icalendar-generator
BEGIN:VTIMEZONE
TZID:UTC
BEGIN:STANDARD
DTSTART:20250727T161239
TZOFFSETFROM:+0000
TZOFFSETTO:+0000
END:STANDARD
END:VTIMEZONE
BEGIN:VEVENT
UID:69ea44f7d3d93
DTSTAMP:20260423T161239Z
SUMMARY:Verstrickt. Kolonialismus und Mannheim
DTSTART:20260819T080000Z
DTEND:20260819T160000Z
END:VEVENT
END:VCALENDAR