BEGIN:VCALENDAR
VERSION:2.0
PRODID:spatie/icalendar-generator
BEGIN:VTIMEZONE
TZID:UTC
BEGIN:STANDARD
DTSTART:20250727T161525
TZOFFSETFROM:+0000
TZOFFSETTO:+0000
END:STANDARD
END:VTIMEZONE
BEGIN:VEVENT
UID:69ea459d4194a
DTSTAMP:20260423T161525Z
SUMMARY:Verstrickt. Kolonialismus und Mannheim
DTSTART:20260818T080000Z
DTEND:20260818T160000Z
END:VEVENT
END:VCALENDAR