BEGIN:VCALENDAR
VERSION:2.0
PRODID:spatie/icalendar-generator
BEGIN:VTIMEZONE
TZID:UTC
BEGIN:STANDARD
DTSTART:20250729T111403
TZOFFSETFROM:+0000
TZOFFSETTO:+0000
END:STANDARD
END:VTIMEZONE
BEGIN:VEVENT
UID:69eca1fb9f774
DTSTAMP:20260425T111403Z
SUMMARY:Verstrickt. Kolonialismus und Mannheim
DTSTART:20260809T080000Z
DTEND:20260809T160000Z
END:VEVENT
END:VCALENDAR