BEGIN:VCALENDAR
VERSION:2.0
PRODID:spatie/icalendar-generator
BEGIN:VTIMEZONE
TZID:UTC
BEGIN:STANDARD
DTSTART:20250729T112617
TZOFFSETFROM:+0000
TZOFFSETTO:+0000
END:STANDARD
END:VTIMEZONE
BEGIN:VEVENT
UID:69eca4d9668a4
DTSTAMP:20260425T112617Z
SUMMARY:Verstrickt. Kolonialismus und Mannheim
DTSTART:20260807T080000Z
DTEND:20260807T160000Z
END:VEVENT
END:VCALENDAR