BEGIN:VCALENDAR
VERSION:2.0
PRODID:spatie/icalendar-generator
BEGIN:VTIMEZONE
TZID:UTC
BEGIN:STANDARD
DTSTART:20250729T111256
TZOFFSETFROM:+0000
TZOFFSETTO:+0000
END:STANDARD
END:VTIMEZONE
BEGIN:VEVENT
UID:69eca1b8b3996
DTSTAMP:20260425T111256Z
SUMMARY:Verstrickt. Kolonialismus und Mannheim
DTSTART:20260805T080000Z
DTEND:20260805T160000Z
END:VEVENT
END:VCALENDAR