BEGIN:VCALENDAR
VERSION:2.0
PRODID:spatie/icalendar-generator
BEGIN:VTIMEZONE
TZID:UTC
BEGIN:STANDARD
DTSTART:20250727T173002
TZOFFSETFROM:+0000
TZOFFSETTO:+0000
END:STANDARD
END:VTIMEZONE
BEGIN:VEVENT
UID:69ea571a0b468
DTSTAMP:20260423T173002Z
SUMMARY:Verstrickt. Kolonialismus und Mannheim
DTSTART:20260804T080000Z
DTEND:20260804T160000Z
END:VEVENT
END:VCALENDAR