BEGIN:VCALENDAR
VERSION:2.0
PRODID:spatie/icalendar-generator
BEGIN:VTIMEZONE
TZID:UTC
BEGIN:STANDARD
DTSTART:20250727T172944
TZOFFSETFROM:+0000
TZOFFSETTO:+0000
END:STANDARD
END:VTIMEZONE
BEGIN:VEVENT
UID:69ea57083881d
DTSTAMP:20260423T172944Z
SUMMARY:Verstrickt. Kolonialismus und Mannheim
DTSTART:20260802T080000Z
DTEND:20260802T160000Z
END:VEVENT
END:VCALENDAR