BEGIN:VCALENDAR
VERSION:2.0
PRODID:spatie/icalendar-generator
BEGIN:VTIMEZONE
TZID:UTC
BEGIN:STANDARD
DTSTART:20250727T172945
TZOFFSETFROM:+0000
TZOFFSETTO:+0000
END:STANDARD
END:VTIMEZONE
BEGIN:VEVENT
UID:69ea570907b2c
DTSTAMP:20260423T172945Z
SUMMARY:Verstrickt. Kolonialismus und Mannheim
DTSTART:20260728T080000Z
DTEND:20260728T160000Z
END:VEVENT
END:VCALENDAR