BEGIN:VCALENDAR
VERSION:2.0
PRODID:spatie/icalendar-generator
BEGIN:VTIMEZONE
TZID:UTC
BEGIN:STANDARD
DTSTART:20250730T041658
TZOFFSETFROM:+0000
TZOFFSETTO:+0000
END:STANDARD
END:VTIMEZONE
BEGIN:VEVENT
UID:69ed91ba3b1eb
DTSTAMP:20260426T041658Z
SUMMARY:Verstrickt. Kolonialismus und Mannheim
DTSTART:20260717T080000Z
DTEND:20260717T160000Z
END:VEVENT
END:VCALENDAR