BEGIN:VCALENDAR
VERSION:2.0
PRODID:spatie/icalendar-generator
BEGIN:VTIMEZONE
TZID:UTC
BEGIN:STANDARD
DTSTART:20250728T092024
TZOFFSETFROM:+0000
TZOFFSETTO:+0000
END:STANDARD
END:VTIMEZONE
BEGIN:VEVENT
UID:69eb35d817b0b
DTSTAMP:20260424T092024Z
SUMMARY:CRIME – Die Technik des Verbrechens
DTSTART:20260906T070000Z
DTEND:20260906T070000Z
END:VEVENT
END:VCALENDAR