BEGIN:VCALENDAR
VERSION:2.0
PRODID:spatie/icalendar-generator
BEGIN:VTIMEZONE
TZID:UTC
BEGIN:STANDARD
DTSTART:20250728T105649
TZOFFSETFROM:+0000
TZOFFSETTO:+0000
END:STANDARD
END:VTIMEZONE
BEGIN:VEVENT
UID:69eb4c718fcad
DTSTAMP:20260424T105649Z
SUMMARY:CRIME – Die Technik des Verbrechens
DTSTART:20260830T070000Z
DTEND:20260830T070000Z
END:VEVENT
END:VCALENDAR