BEGIN:VCALENDAR
VERSION:2.0
PRODID:spatie/icalendar-generator
BEGIN:VTIMEZONE
TZID:UTC
BEGIN:STANDARD
DTSTART:20250728T105424
TZOFFSETFROM:+0000
TZOFFSETTO:+0000
END:STANDARD
END:VTIMEZONE
BEGIN:VEVENT
UID:69eb4be08f68a
DTSTAMP:20260424T105424Z
SUMMARY:CRIME – Die Technik des Verbrechens
DTSTART:20260816T070000Z
DTEND:20260816T070000Z
END:VEVENT
END:VCALENDAR