BEGIN:VCALENDAR
VERSION:2.0
PRODID:spatie/icalendar-generator
BEGIN:VTIMEZONE
TZID:UTC
BEGIN:STANDARD
DTSTART:20250728T124055
TZOFFSETFROM:+0000
TZOFFSETTO:+0000
END:STANDARD
END:VTIMEZONE
BEGIN:VEVENT
UID:69eb64d75eb92
DTSTAMP:20260424T124055Z
SUMMARY:CRIME – Die Technik des Verbrechens
DTSTART:20260811T070000Z
DTEND:20260811T070000Z
END:VEVENT
END:VCALENDAR