BEGIN:VCALENDAR
VERSION:2.0
PRODID:spatie/icalendar-generator
BEGIN:VTIMEZONE
TZID:UTC
BEGIN:STANDARD
DTSTART:20250728T160018
TZOFFSETFROM:+0000
TZOFFSETTO:+0000
END:STANDARD
END:VTIMEZONE
BEGIN:VEVENT
UID:69eb9392dfa60
DTSTAMP:20260424T160018Z
SUMMARY:Oktobermess
DTSTART:20261008T110000Z
DTEND:20261008T200000Z
END:VEVENT
END:VCALENDAR