BEGIN:VCALENDAR
VERSION:2.0
PRODID:spatie/icalendar-generator
BEGIN:VTIMEZONE
TZID:UTC
BEGIN:STANDARD
DTSTART:20250728T160011
TZOFFSETFROM:+0000
TZOFFSETTO:+0000
END:STANDARD
END:VTIMEZONE
BEGIN:VEVENT
UID:69eb938b54b31
DTSTAMP:20260424T160011Z
SUMMARY:Oktobermess
DTSTART:20261006T110000Z
DTEND:20261006T200000Z
END:VEVENT
END:VCALENDAR