BEGIN:VCALENDAR
VERSION:2.0
PRODID:spatie/icalendar-generator
BEGIN:VTIMEZONE
TZID:UTC
BEGIN:STANDARD
DTSTART:20250728T172752
TZOFFSETFROM:+0000
TZOFFSETTO:+0000
END:STANDARD
END:VTIMEZONE
BEGIN:VEVENT
UID:69eba818370e0
DTSTAMP:20260424T172752Z
SUMMARY:Oktobermess
DTSTART:20261001T110000Z
DTEND:20261001T200000Z
END:VEVENT
END:VCALENDAR