BEGIN:VCALENDAR
VERSION:2.0
PRODID:spatie/icalendar-generator
BEGIN:VTIMEZONE
TZID:UTC
BEGIN:STANDARD
DTSTART:20250728T171518
TZOFFSETFROM:+0000
TZOFFSETTO:+0000
END:STANDARD
END:VTIMEZONE
BEGIN:VEVENT
UID:69eba5265f831
DTSTAMP:20260424T171518Z
SUMMARY:Oktobermess
DTSTART:20260927T110000Z
DTEND:20260927T200000Z
END:VEVENT
END:VCALENDAR