BEGIN:VCALENDAR
VERSION:2.0
PRODID:spatie/icalendar-generator
BEGIN:VTIMEZONE
TZID:UTC
BEGIN:STANDARD
DTSTART:20250728T171539
TZOFFSETFROM:+0000
TZOFFSETTO:+0000
END:STANDARD
END:VTIMEZONE
BEGIN:VEVENT
UID:69eba53b7fb0d
DTSTAMP:20260424T171539Z
SUMMARY:Oktobermess
DTSTART:20260926T110000Z
DTEND:20260926T200000Z
END:VEVENT
END:VCALENDAR