BEGIN:VCALENDAR
VERSION:2.0
PRODID:spatie/icalendar-generator
BEGIN:VTIMEZONE
TZID:UTC
BEGIN:STANDARD
DTSTART:20250728T173132
TZOFFSETFROM:+0000
TZOFFSETTO:+0000
END:STANDARD
END:VTIMEZONE
BEGIN:VEVENT
UID:69eba8f43d5ab
DTSTAMP:20260424T173132Z
SUMMARY:Maimess
DTSTART:20260507T110000Z
DTEND:20260507T210000Z
END:VEVENT
END:VCALENDAR