BEGIN:VCALENDAR
VERSION:2.0
PRODID:spatie/icalendar-generator
BEGIN:VTIMEZONE
TZID:UTC
BEGIN:STANDARD
DTSTART:20250728T184353
TZOFFSETFROM:+0000
TZOFFSETTO:+0000
END:STANDARD
END:VTIMEZONE
BEGIN:VEVENT
UID:69ebb9e945cad
DTSTAMP:20260424T184353Z
SUMMARY:Silvestermarkt
DTSTART:20261231T100000Z
DTEND:20261231T190000Z
END:VEVENT
END:VCALENDAR