BEGIN:VCALENDAR
VERSION:2.0
PRODID:spatie/icalendar-generator
BEGIN:VTIMEZONE
TZID:UTC
BEGIN:STANDARD
DTSTART:20250728T184216
TZOFFSETFROM:+0000
TZOFFSETTO:+0000
END:STANDARD
END:VTIMEZONE
BEGIN:VEVENT
UID:69ebb9882b320
DTSTAMP:20260424T184216Z
SUMMARY:Silvestermarkt
DTSTART:20261229T100000Z
DTEND:20261229T190000Z
END:VEVENT
END:VCALENDAR