BEGIN:VCALENDAR
VERSION:2.0
PRODID:spatie/icalendar-generator
BEGIN:VTIMEZONE
TZID:UTC
BEGIN:STANDARD
DTSTART:20250728T184430
TZOFFSETFROM:+0000
TZOFFSETTO:+0000
END:STANDARD
END:VTIMEZONE
BEGIN:VEVENT
UID:69ebba0e7b44d
DTSTAMP:20260424T184430Z
SUMMARY:Silvestermarkt
DTSTART:20261227T100000Z
DTEND:20261227T190000Z
END:VEVENT
END:VCALENDAR