BEGIN:VCALENDAR
VERSION:2.0
PRODID:spatie/icalendar-generator
BEGIN:VTIMEZONE
TZID:UTC
BEGIN:STANDARD
DTSTART:20250728T184531
TZOFFSETFROM:+0000
TZOFFSETTO:+0000
END:STANDARD
END:VTIMEZONE
BEGIN:VEVENT
UID:69ebba4beda26
DTSTAMP:20260424T184531Z
SUMMARY:Christbaummarkt
DTSTART:20261221T060000Z
DTEND:20261221T190000Z
END:VEVENT
END:VCALENDAR