BEGIN:VCALENDAR
VERSION:2.0
PRODID:spatie/icalendar-generator
BEGIN:VTIMEZONE
TZID:UTC
BEGIN:STANDARD
DTSTART:20250728T184054
TZOFFSETFROM:+0000
TZOFFSETTO:+0000
END:STANDARD
END:VTIMEZONE
BEGIN:VEVENT
UID:69ebb9369b8d7
DTSTAMP:20260424T184054Z
SUMMARY:Christbaummarkt
DTSTART:20261219T060000Z
DTEND:20261219T190000Z
END:VEVENT
END:VCALENDAR