BEGIN:VCALENDAR
VERSION:2.0
PRODID:spatie/icalendar-generator
BEGIN:VTIMEZONE
TZID:UTC
BEGIN:STANDARD
DTSTART:20250728T184252
TZOFFSETFROM:+0000
TZOFFSETTO:+0000
END:STANDARD
END:VTIMEZONE
BEGIN:VEVENT
UID:69ebb9aca22e6
DTSTAMP:20260424T184252Z
SUMMARY:Christbaummarkt
DTSTART:20261218T060000Z
DTEND:20261218T190000Z
END:VEVENT
END:VCALENDAR