BEGIN:VCALENDAR
VERSION:2.0
PRODID:spatie/icalendar-generator
BEGIN:VTIMEZONE
TZID:UTC
BEGIN:STANDARD
DTSTART:20250728T184404
TZOFFSETFROM:+0000
TZOFFSETTO:+0000
END:STANDARD
END:VTIMEZONE
BEGIN:VEVENT
UID:69ebb9f415f07
DTSTAMP:20260424T184404Z
SUMMARY:Christbaummarkt
DTSTART:20261217T060000Z
DTEND:20261217T190000Z
END:VEVENT
END:VCALENDAR