BEGIN:VCALENDAR
VERSION:2.0
PRODID:spatie/icalendar-generator
BEGIN:VTIMEZONE
TZID:UTC
BEGIN:STANDARD
DTSTART:20250728T184429
TZOFFSETFROM:+0000
TZOFFSETTO:+0000
END:STANDARD
END:VTIMEZONE
BEGIN:VEVENT
UID:69ebba0dee4b1
DTSTAMP:20260424T184429Z
SUMMARY:Christbaummarkt
DTSTART:20261216T060000Z
DTEND:20261216T190000Z
END:VEVENT
END:VCALENDAR