BEGIN:VCALENDAR
VERSION:2.0
PRODID:spatie/icalendar-generator
BEGIN:VTIMEZONE
TZID:UTC
BEGIN:STANDARD
DTSTART:20250728T201936
TZOFFSETFROM:+0000
TZOFFSETTO:+0000
END:STANDARD
END:VTIMEZONE
BEGIN:VEVENT
UID:69ebd058975f1
DTSTAMP:20260424T201936Z
SUMMARY:Christbaummarkt
DTSTART:20261212T060000Z
DTEND:20261212T190000Z
END:VEVENT
END:VCALENDAR