BEGIN:VCALENDAR
VERSION:2.0
PRODID:spatie/icalendar-generator
BEGIN:VTIMEZONE
TZID:UTC
BEGIN:STANDARD
DTSTART:20250728T201808
TZOFFSETFROM:+0000
TZOFFSETTO:+0000
END:STANDARD
END:VTIMEZONE
BEGIN:VEVENT
UID:69ebd000da94a
DTSTAMP:20260424T201808Z
SUMMARY:Christbaummarkt
DTSTART:20261211T060000Z
DTEND:20261211T190000Z
END:VEVENT
END:VCALENDAR