BEGIN:VCALENDAR
VERSION:2.0
PRODID:spatie/icalendar-generator
BEGIN:VTIMEZONE
TZID:UTC
BEGIN:STANDARD
DTSTART:20250728T201941
TZOFFSETFROM:+0000
TZOFFSETTO:+0000
END:STANDARD
END:VTIMEZONE
BEGIN:VEVENT
UID:69ebd05de1c48
DTSTAMP:20260424T201941Z
SUMMARY:Mannheimer Stadtfest
DTSTART:20260529T120000Z
DTEND:20260531T200000Z
END:VEVENT
END:VCALENDAR