BEGIN:VCALENDAR
VERSION:2.0
PRODID:spatie/icalendar-generator
BEGIN:VTIMEZONE
TZID:UTC
BEGIN:STANDARD
DTSTART:20250728T201829
TZOFFSETFROM:+0000
TZOFFSETTO:+0000
END:STANDARD
END:VTIMEZONE
BEGIN:VEVENT
UID:69ebd015a14a5
DTSTAMP:20260424T201829Z
SUMMARY:Zeltfestival Rhein-Neckar: Berq
DTSTART:20260612T170000Z
DTEND:20260612T170000Z
END:VEVENT
END:VCALENDAR