BEGIN:VCALENDAR
VERSION:2.0
PRODID:spatie/icalendar-generator
BEGIN:VTIMEZONE
TZID:UTC
BEGIN:STANDARD
DTSTART:20250728T215313
TZOFFSETFROM:+0000
TZOFFSETTO:+0000
END:STANDARD
END:VTIMEZONE
BEGIN:VEVENT
UID:69ebe649e468e
DTSTAMP:20260424T215313Z
SUMMARY:Rollenspieltreff
DTSTART:20260508T160000Z
DTEND:20260508T160000Z
END:VEVENT
END:VCALENDAR