BEGIN:VCALENDAR
VERSION:2.0
PRODID:spatie/icalendar-generator
BEGIN:VTIMEZONE
TZID:UTC
BEGIN:STANDARD
DTSTART:20250728T215023
TZOFFSETFROM:+0000
TZOFFSETTO:+0000
END:STANDARD
END:VTIMEZONE
BEGIN:VEVENT
UID:69ebe59fc9c04
DTSTAMP:20260424T215023Z
SUMMARY:Kamishibai-Geschichten in Vogelstang
DTSTART:20260518T143000Z
DTEND:20260518T143000Z
END:VEVENT
END:VCALENDAR