BEGIN:VCALENDAR
VERSION:2.0
PRODID:spatie/icalendar-generator
BEGIN:VTIMEZONE
TZID:UTC
BEGIN:STANDARD
DTSTART:20250728T215040
TZOFFSETFROM:+0000
TZOFFSETTO:+0000
END:STANDARD
END:VTIMEZONE
BEGIN:VEVENT
UID:69ebe5b003a50
DTSTAMP:20260424T215040Z
SUMMARY:Simon Stäblein - Absolute Frechheit
DTSTART:20270318T190000Z
DTEND:20270318T190000Z
END:VEVENT
END:VCALENDAR