BEGIN:VCALENDAR
VERSION:2.0
PRODID:spatie/icalendar-generator
BEGIN:VTIMEZONE
TZID:UTC
BEGIN:STANDARD
DTSTART:20250728T215207
TZOFFSETFROM:+0000
TZOFFSETTO:+0000
END:STANDARD
END:VTIMEZONE
BEGIN:VEVENT
UID:69ebe6073b805
DTSTAMP:20260424T215207Z
SUMMARY:Farid - IF - …was wäre wenn?
DTSTART:20270517T170000Z
DTEND:20270517T170000Z
END:VEVENT
END:VCALENDAR