BEGIN:VCALENDAR
VERSION:2.0
PRODID:spatie/icalendar-generator
BEGIN:VTIMEZONE
TZID:UTC
BEGIN:STANDARD
DTSTART:20250728T215442
TZOFFSETFROM:+0000
TZOFFSETTO:+0000
END:STANDARD
END:VTIMEZONE
BEGIN:VEVENT
UID:69ebe6a2544d5
DTSTAMP:20260424T215442Z
SUMMARY:Schlongonges
DTSTART:20270227T190000Z
DTEND:20270227T190000Z
END:VEVENT
END:VCALENDAR