BEGIN:VCALENDAR
VERSION:2.0
PRODID:spatie/icalendar-generator
BEGIN:VTIMEZONE
TZID:UTC
BEGIN:STANDARD
DTSTART:20250728T215343
TZOFFSETFROM:+0000
TZOFFSETTO:+0000
END:STANDARD
END:VTIMEZONE
BEGIN:VEVENT
UID:69ebe667e946a
DTSTAMP:20260424T215343Z
SUMMARY:Scala & Kolacny Brothers - Scala 30
DTSTART:20270224T190000Z
DTEND:20270224T190000Z
END:VEVENT
END:VCALENDAR