BEGIN:VCALENDAR
VERSION:2.0
PRODID:spatie/icalendar-generator
BEGIN:VTIMEZONE
TZID:UTC
BEGIN:STANDARD
DTSTART:20250728T215410
TZOFFSETFROM:+0000
TZOFFSETTO:+0000
END:STANDARD
END:VTIMEZONE
BEGIN:VEVENT
UID:69ebe682a2357
DTSTAMP:20260424T215410Z
SUMMARY:The Irish Folk Festival - Fair Play Tour
DTSTART:20261022T180000Z
DTEND:20261022T180000Z
END:VEVENT
END:VCALENDAR