BEGIN:VCALENDAR
VERSION:2.0
PRODID:spatie/icalendar-generator
BEGIN:VTIMEZONE
TZID:UTC
BEGIN:STANDARD
DTSTART:20250728T232741
TZOFFSETFROM:+0000
TZOFFSETTO:+0000
END:STANDARD
END:VTIMEZONE
BEGIN:VEVENT
UID:69ebfc6d02e56
DTSTAMP:20260424T232741Z
SUMMARY:Falk - Unverschämt
DTSTART:20261105T190000Z
DTEND:20261105T190000Z
END:VEVENT
END:VCALENDAR