BEGIN:VCALENDAR
VERSION:2.0
PRODID:spatie/icalendar-generator
BEGIN:VTIMEZONE
TZID:UTC
BEGIN:STANDARD
DTSTART:20250729T005758
TZOFFSETFROM:+0000
TZOFFSETTO:+0000
END:STANDARD
END:VTIMEZONE
BEGIN:VEVENT
UID:69ec1196d9e9d
DTSTAMP:20260425T005758Z
SUMMARY:Intersektionaler queer-feministischer Buchclub
DTSTART:20260506T150000Z
DTEND:20260506T150000Z
END:VEVENT
END:VCALENDAR