BEGIN:VCALENDAR
VERSION:2.0
PRODID:spatie/icalendar-generator
BEGIN:VTIMEZONE
TZID:UTC
BEGIN:STANDARD
DTSTART:20250729T005641
TZOFFSETFROM:+0000
TZOFFSETTO:+0000
END:STANDARD
END:VTIMEZONE
BEGIN:VEVENT
UID:69ec1149bf63b
DTSTAMP:20260425T005641Z
SUMMARY:100 Jahre Reiter-Verein Mannheim
DTSTART:20260624T160000Z
DTEND:20260624T170000Z
END:VEVENT
END:VCALENDAR