BEGIN:VCALENDAR
VERSION:2.0
PRODID:spatie/icalendar-generator
BEGIN:VTIMEZONE
TZID:UTC
BEGIN:STANDARD
DTSTART:20250729T005722
TZOFFSETFROM:+0000
TZOFFSETTO:+0000
END:STANDARD
END:VTIMEZONE
BEGIN:VEVENT
UID:69ec117274a80
DTSTAMP:20260425T005722Z
SUMMARY:Koloniale Geschichtsbilder – Wirkende Narrative und Perspektiven
DTSTART:20260617T160000Z
DTEND:20260617T170000Z
END:VEVENT
END:VCALENDAR