BEGIN:VCALENDAR
VERSION:2.0
PRODID:spatie/icalendar-generator
BEGIN:VTIMEZONE
TZID:UTC
BEGIN:STANDARD
DTSTART:20250729T005522
TZOFFSETFROM:+0000
TZOFFSETTO:+0000
END:STANDARD
END:VTIMEZONE
BEGIN:VEVENT
UID:69ec10faaba09
DTSTAMP:20260425T005522Z
SUMMARY:Popakademie Talk im MARCHIVUM – Music made in Mannheim
DTSTART:20260610T160000Z
DTEND:20260610T180000Z
END:VEVENT
END:VCALENDAR