BEGIN:VCALENDAR
VERSION:2.0
PRODID:spatie/icalendar-generator
BEGIN:VTIMEZONE
TZID:UTC
BEGIN:STANDARD
DTSTART:20250729T005721
TZOFFSETFROM:+0000
TZOFFSETTO:+0000
END:STANDARD
END:VTIMEZONE
BEGIN:VEVENT
UID:69ec1171e1726
DTSTAMP:20260425T005721Z
SUMMARY:Blick hinter die Kulissen: Führung durch das MARCHIVUM
DTSTART:20260610T140000Z
DTEND:20260610T150000Z
END:VEVENT
END:VCALENDAR