BEGIN:VCALENDAR
VERSION:2.0
PRODID:spatie/icalendar-generator
BEGIN:VTIMEZONE
TZID:UTC
BEGIN:STANDARD
DTSTART:20250729T005641
TZOFFSETFROM:+0000
TZOFFSETTO:+0000
END:STANDARD
END:VTIMEZONE
BEGIN:VEVENT
UID:69ec11491e73b
DTSTAMP:20260425T005641Z
SUMMARY:8. Akademiekonzert | Mozarts Requiem
DTSTART:20260623T180000Z
DTEND:20260623T180000Z
END:VEVENT
END:VCALENDAR