BEGIN:VCALENDAR
VERSION:2.0
PRODID:spatie/icalendar-generator
BEGIN:VTIMEZONE
TZID:UTC
BEGIN:STANDARD
DTSTART:20250729T005630
TZOFFSETFROM:+0000
TZOFFSETTO:+0000
END:STANDARD
END:VTIMEZONE
BEGIN:VEVENT
UID:69ec113e6026f
DTSTAMP:20260425T005630Z
SUMMARY:8. Akademiekonzert | Mozarts Requiem
DTSTART:20260622T180000Z
DTEND:20260622T180000Z
END:VEVENT
END:VCALENDAR