BEGIN:VCALENDAR
VERSION:2.0
PRODID:spatie/icalendar-generator
BEGIN:VTIMEZONE
TZID:UTC
BEGIN:STANDARD
DTSTART:20250729T005618
TZOFFSETFROM:+0000
TZOFFSETTO:+0000
END:STANDARD
END:VTIMEZONE
BEGIN:VEVENT
UID:69ec1132c9f86
DTSTAMP:20260425T005618Z
SUMMARY:7. Akademiekonzert
DTSTART:20260511T180000Z
DTEND:20260511T180000Z
END:VEVENT
END:VCALENDAR